BEGIN:VCALENDAR
VERSION:2.0
PRODID:-//Royal Canadian Legion Calgary No. 1 Branch - ECPv6.15.19//NONSGML v1.0//EN
CALSCALE:GREGORIAN
METHOD:PUBLISH
X-WR-CALNAME:Royal Canadian Legion Calgary No. 1 Branch
X-ORIGINAL-URL:https://onelegionyyc.ca
X-WR-CALDESC:Events for Royal Canadian Legion Calgary No. 1 Branch
REFRESH-INTERVAL;VALUE=DURATION:PT1H
X-Robots-Tag:noindex
X-PUBLISHED-TTL:PT1H
BEGIN:VTIMEZONE
TZID:America/Edmonton
BEGIN:DAYLIGHT
TZOFFSETFROM:-0700
TZOFFSETTO:-0600
TZNAME:MDT
DTSTART:20240310T090000
END:DAYLIGHT
BEGIN:STANDARD
TZOFFSETFROM:-0600
TZOFFSETTO:-0700
TZNAME:MST
DTSTART:20241103T080000
END:STANDARD
BEGIN:DAYLIGHT
TZOFFSETFROM:-0700
TZOFFSETTO:-0600
TZNAME:MDT
DTSTART:20250309T090000
END:DAYLIGHT
BEGIN:STANDARD
TZOFFSETFROM:-0600
TZOFFSETTO:-0700
TZNAME:MST
DTSTART:20251102T080000
END:STANDARD
BEGIN:DAYLIGHT
TZOFFSETFROM:-0700
TZOFFSETTO:-0600
TZNAME:MDT
DTSTART:20260308T090000
END:DAYLIGHT
BEGIN:STANDARD
TZOFFSETFROM:-0600
TZOFFSETTO:-0700
TZNAME:MST
DTSTART:20261101T080000
END:STANDARD
END:VTIMEZONE
BEGIN:VEVENT
DTSTART;TZID=America/Edmonton:20250625T110000
DTEND;TZID=America/Edmonton:20250625T153000
DTSTAMP:20260421T075609
CREATED:20250403T221618Z
LAST-MODIFIED:20250403T224332Z
UID:4188-1750849200-1750865400@onelegionyyc.ca
SUMMARY:Spring Dart League
DESCRIPTION:Spring Dart League held in the Olympic Lounge Wednesdays from 11-3:30 April 2 to June 25.\nRegistration closed as the session is fully subscribed.
URL:https://onelegionyyc.ca/event/spring-dart-league-12/
CATEGORIES:Sports
ATTACH;FMTTYPE=image/png:https://onelegionyyc.ca/wp-content/uploads/2025/04/darts_featured.png
END:VEVENT
BEGIN:VEVENT
DTSTART;TZID=America/Edmonton:20250618T110000
DTEND;TZID=America/Edmonton:20250618T153000
DTSTAMP:20260421T075609
CREATED:20250403T221542Z
LAST-MODIFIED:20250403T224539Z
UID:4186-1750244400-1750260600@onelegionyyc.ca
SUMMARY:Spring Dart League
DESCRIPTION:Spring Dart League held in the Olympic Lounge Wednesdays from 11-3:30 April 2 to June 25.\nRegistration closed as the session is fully subscribed.
URL:https://onelegionyyc.ca/event/spring-dart-league-11/
CATEGORIES:Sports
ATTACH;FMTTYPE=image/png:https://onelegionyyc.ca/wp-content/uploads/2025/04/darts_featured.png
END:VEVENT
BEGIN:VEVENT
DTSTART;TZID=America/Edmonton:20250611T110000
DTEND;TZID=America/Edmonton:20250611T153000
DTSTAMP:20260421T075609
CREATED:20250403T221456Z
LAST-MODIFIED:20250403T224519Z
UID:4184-1749639600-1749655800@onelegionyyc.ca
SUMMARY:Spring Dart League
DESCRIPTION:Spring Dart League held in the Olympic Lounge Wednesdays from 11-3:30 April 2 to June 25.\nRegistration closed as the session is fully subscribed.
URL:https://onelegionyyc.ca/event/spring-dart-league-10/
CATEGORIES:Sports
ATTACH;FMTTYPE=image/png:https://onelegionyyc.ca/wp-content/uploads/2025/04/darts_featured.png
END:VEVENT
BEGIN:VEVENT
DTSTART;TZID=America/Edmonton:20250604T110000
DTEND;TZID=America/Edmonton:20250604T153000
DTSTAMP:20260421T075609
CREATED:20250403T221406Z
LAST-MODIFIED:20250403T224509Z
UID:4182-1749034800-1749051000@onelegionyyc.ca
SUMMARY:Spring Dart League
DESCRIPTION:Spring Dart League held in the Olympic Lounge Wednesdays from 11-3:30 April 2 to June 25.\nRegistration closed as the session is fully subscribed.
URL:https://onelegionyyc.ca/event/spring-dart-league-9/
CATEGORIES:Sports
ATTACH;FMTTYPE=image/png:https://onelegionyyc.ca/wp-content/uploads/2025/04/darts_featured.png
END:VEVENT
BEGIN:VEVENT
DTSTART;TZID=America/Edmonton:20250528T110000
DTEND;TZID=America/Edmonton:20250528T153000
DTSTAMP:20260421T075609
CREATED:20250403T221243Z
LAST-MODIFIED:20250403T224450Z
UID:4179-1748430000-1748446200@onelegionyyc.ca
SUMMARY:Spring Dart League
DESCRIPTION:Spring Dart League held in the Olympic Lounge Wednesdays from 11-3:30 April 2 to June 25.\nRegistration closed as the session is fully subscribed.
URL:https://onelegionyyc.ca/event/spring-dart-league-8/
CATEGORIES:Sports
ATTACH;FMTTYPE=image/png:https://onelegionyyc.ca/wp-content/uploads/2025/04/darts_featured.png
END:VEVENT
BEGIN:VEVENT
DTSTART;TZID=America/Edmonton:20250521T110000
DTEND;TZID=America/Edmonton:20250521T153000
DTSTAMP:20260421T075609
CREATED:20250403T220843Z
LAST-MODIFIED:20250403T224441Z
UID:4177-1747825200-1747841400@onelegionyyc.ca
SUMMARY:Spring Dart League
DESCRIPTION:Spring Dart League held in the Olympic Lounge Wednesdays from 11-3:30 April 2 to June 25.\nRegistration closed as the session is fully subscribed.
URL:https://onelegionyyc.ca/event/spring-dart-league-7/
CATEGORIES:Sports
ATTACH;FMTTYPE=image/png:https://onelegionyyc.ca/wp-content/uploads/2025/04/darts_featured.png
END:VEVENT
BEGIN:VEVENT
DTSTART;TZID=America/Edmonton:20250514T110000
DTEND;TZID=America/Edmonton:20250514T153000
DTSTAMP:20260421T075609
CREATED:20250403T220636Z
LAST-MODIFIED:20250403T224431Z
UID:4175-1747220400-1747236600@onelegionyyc.ca
SUMMARY:Spring Dart League
DESCRIPTION:Spring Dart League held in the Olympic Lounge Wednesdays from 11-3:30 April 2 to June 25.\nRegistration closed as the session is fully subscribed.
URL:https://onelegionyyc.ca/event/spring-dart-league-6/
CATEGORIES:Sports
ATTACH;FMTTYPE=image/png:https://onelegionyyc.ca/wp-content/uploads/2025/04/darts_featured.png
END:VEVENT
BEGIN:VEVENT
DTSTART;TZID=America/Edmonton:20250507T110000
DTEND;TZID=America/Edmonton:20250507T153000
DTSTAMP:20260421T075609
CREATED:20250403T220553Z
LAST-MODIFIED:20250403T224420Z
UID:4173-1746615600-1746631800@onelegionyyc.ca
SUMMARY:Spring Dart League
DESCRIPTION:Spring Dart League held in the Olympic Lounge Wednesdays from 11-3:30 April 2 to June 25.\nRegistration closed as the session is fully subscribed.
URL:https://onelegionyyc.ca/event/spring-dart-league-5/
CATEGORIES:Sports
ATTACH;FMTTYPE=image/png:https://onelegionyyc.ca/wp-content/uploads/2025/04/darts_featured.png
END:VEVENT
BEGIN:VEVENT
DTSTART;TZID=America/Edmonton:20250430T110000
DTEND;TZID=America/Edmonton:20250430T153000
DTSTAMP:20260421T075609
CREATED:20250403T220402Z
LAST-MODIFIED:20250403T224407Z
UID:4171-1746010800-1746027000@onelegionyyc.ca
SUMMARY:Spring Dart League
DESCRIPTION:Spring Dart League held in the Olympic Lounge Wednesdays from 11-3:30 April 2 to June 25.\nRegistration closed as the session is fully subscribed.
URL:https://onelegionyyc.ca/event/spring-dart-league-4/
CATEGORIES:Sports
ATTACH;FMTTYPE=image/png:https://onelegionyyc.ca/wp-content/uploads/2025/04/darts_featured.png
END:VEVENT
BEGIN:VEVENT
DTSTART;TZID=America/Edmonton:20250423T110000
DTEND;TZID=America/Edmonton:20250423T153000
DTSTAMP:20260421T075609
CREATED:20250403T220203Z
LAST-MODIFIED:20250403T224355Z
UID:4168-1745406000-1745422200@onelegionyyc.ca
SUMMARY:Spring Dart League
DESCRIPTION:Spring Dart League held in the Olympic Lounge Wednesdays from 11-3:30 April 2 to June 25.\nRegistration closed as the session is fully subscribed.
URL:https://onelegionyyc.ca/event/spring-dart-league-3/
CATEGORIES:Sports
ATTACH;FMTTYPE=image/png:https://onelegionyyc.ca/wp-content/uploads/2025/04/darts_featured.png
END:VEVENT
BEGIN:VEVENT
DTSTART;TZID=America/Edmonton:20250416T110000
DTEND;TZID=America/Edmonton:20250416T153000
DTSTAMP:20260421T075609
CREATED:20250403T220018Z
LAST-MODIFIED:20250404T082055Z
UID:4164-1744801200-1744817400@onelegionyyc.ca
SUMMARY:Spring Dart League
DESCRIPTION:Spring Dart League held in the Olympic Lounge Wednesdays from 11-3:30 April 2 to June 25.\nRegistration closed as the session is fully subscribed.
URL:https://onelegionyyc.ca/event/spring-dart-league-2/
CATEGORIES:Sports
ATTACH;FMTTYPE=image/png:https://onelegionyyc.ca/wp-content/uploads/2025/04/darts_featured.png
END:VEVENT
BEGIN:VEVENT
DTSTART;TZID=America/Edmonton:20250409T110000
DTEND;TZID=America/Edmonton:20250409T153000
DTSTAMP:20260421T075609
CREATED:20250403T214709Z
LAST-MODIFIED:20250403T221646Z
UID:4159-1744196400-1744212600@onelegionyyc.ca
SUMMARY:Spring Dart League
DESCRIPTION:Spring Dart League held in the Olympic Lounge Wednesdays from 11-3:30 April 2 to June 25.\nRegistration closed as the session is fully subscribed.
URL:https://onelegionyyc.ca/event/spring-dart-league/
CATEGORIES:Sports
ATTACH;FMTTYPE=image/png:https://onelegionyyc.ca/wp-content/uploads/2025/04/darts_featured.png
END:VEVENT
END:VCALENDAR